BEGIN:VCALENDAR
VERSION:2.0
PRODID:-//Rosslyn St Clair 606 - ECPv6.15.11//NONSGML v1.0//EN
CALSCALE:GREGORIAN
METHOD:PUBLISH
X-ORIGINAL-URL:https://rosslynmasonic606.co.uk
X-WR-CALDESC:Events for Rosslyn St Clair 606
REFRESH-INTERVAL;VALUE=DURATION:PT1H
X-Robots-Tag:noindex
X-PUBLISHED-TTL:PT1H
BEGIN:VTIMEZONE
TZID:Europe/London
BEGIN:DAYLIGHT
TZOFFSETFROM:+0000
TZOFFSETTO:+0100
TZNAME:BST
DTSTART:20220327T010000
END:DAYLIGHT
BEGIN:STANDARD
TZOFFSETFROM:+0100
TZOFFSETTO:+0000
TZNAME:GMT
DTSTART:20221030T010000
END:STANDARD
BEGIN:DAYLIGHT
TZOFFSETFROM:+0000
TZOFFSETTO:+0100
TZNAME:BST
DTSTART:20230326T010000
END:DAYLIGHT
BEGIN:STANDARD
TZOFFSETFROM:+0100
TZOFFSETTO:+0000
TZNAME:GMT
DTSTART:20231029T010000
END:STANDARD
BEGIN:DAYLIGHT
TZOFFSETFROM:+0000
TZOFFSETTO:+0100
TZNAME:BST
DTSTART:20240331T010000
END:DAYLIGHT
BEGIN:STANDARD
TZOFFSETFROM:+0100
TZOFFSETTO:+0000
TZNAME:GMT
DTSTART:20241027T010000
END:STANDARD
END:VTIMEZONE
BEGIN:VEVENT
DTSTART;TZID=Europe/London:20231213T180000
DTEND;TZID=Europe/London:20231213T184500
DTSTAMP:20260424T000904
CREATED:20231030T162057Z
LAST-MODIFIED:20231213T114134Z
UID:7877-1702490400-1702493100@rosslynmasonic606.co.uk
SUMMARY:2023 Office-Bearers Photograph - POSTPONED
DESCRIPTION:The taking of the 2002/23 Office-Bearers photograph has been postponed until immediately before the 10 Juanuary meeting.
URL:https://rosslynmasonic606.co.uk/event/2023-office-bearers-photograph/
LOCATION:Lodge Rosslyn St. Clair 606\, 21 Main Street\, Roslin\, EH25 9LD
END:VEVENT
BEGIN:VEVENT
DTSTART;TZID=Europe/London:20231213T190000
DTEND;TZID=Europe/London:20231213T210000
DTSTAMP:20260424T000904
CREATED:20231030T155955Z
LAST-MODIFIED:20231030T160000Z
UID:7872-1702494000-1702501200@rosslynmasonic606.co.uk
SUMMARY:The Annual Greetin' Meetin'
DESCRIPTION:Actually it’s really only our December Regular Meeting but we call it the Greetin’ Meetin’ because it is Bro. Steve Burnett’s chance to show how upset he is at demitting office as Right Worshipful Master of Lodge Rosslyn St. Clair 606. We might see tears of sorrow\, perhaps even of joy but whatever Steve does\, this is our opportunity to thank him for him for his outstanding service to 606 in particular\, and Freemasonry in general – and give him a d****d good send-off into an equally busy future as IPM. We hope everyone will make a special effort to join us on this very special occasion.
URL:https://rosslynmasonic606.co.uk/event/the-annual-greetin-meetin/
LOCATION:Lodge Rosslyn St. Clair 606\, 21 Main Street\, Roslin\, EH25 9LD
END:VEVENT
END:VCALENDAR