BEGIN:VCALENDAR
VERSION:2.0
PRODID:-//Rosslyn St Clair 606 - ECPv6.15.11//NONSGML v1.0//EN
CALSCALE:GREGORIAN
METHOD:PUBLISH
X-WR-CALNAME:Rosslyn St Clair 606
X-ORIGINAL-URL:https://rosslynmasonic606.co.uk
X-WR-CALDESC:Events for Rosslyn St Clair 606
REFRESH-INTERVAL;VALUE=DURATION:PT1H
X-Robots-Tag:noindex
X-PUBLISHED-TTL:PT1H
BEGIN:VTIMEZONE
TZID:Europe/London
BEGIN:DAYLIGHT
TZOFFSETFROM:+0000
TZOFFSETTO:+0100
TZNAME:BST
DTSTART:20220327T010000
END:DAYLIGHT
BEGIN:STANDARD
TZOFFSETFROM:+0100
TZOFFSETTO:+0000
TZNAME:GMT
DTSTART:20221030T010000
END:STANDARD
BEGIN:DAYLIGHT
TZOFFSETFROM:+0000
TZOFFSETTO:+0100
TZNAME:BST
DTSTART:20230326T010000
END:DAYLIGHT
BEGIN:STANDARD
TZOFFSETFROM:+0100
TZOFFSETTO:+0000
TZNAME:GMT
DTSTART:20231029T010000
END:STANDARD
BEGIN:DAYLIGHT
TZOFFSETFROM:+0000
TZOFFSETTO:+0100
TZNAME:BST
DTSTART:20240331T010000
END:DAYLIGHT
BEGIN:STANDARD
TZOFFSETFROM:+0100
TZOFFSETTO:+0000
TZNAME:GMT
DTSTART:20241027T010000
END:STANDARD
END:VTIMEZONE
BEGIN:VEVENT
DTSTART;TZID=Europe/London:20230407T133000
DTEND;TZID=Europe/London:20230407T150000
DTSTAMP:20260424T101021
CREATED:20230324T165935Z
LAST-MODIFIED:20230324T165937Z
UID:7605-1680874200-1680879600@rosslynmasonic606.co.uk
SUMMARY:Office-Bearers Rehearsal
DESCRIPTION:The final chance for participants fo demonstrate their ritual and floor work before the Regular Meeting on the evening of 12 April
URL:https://rosslynmasonic606.co.uk/event/office-bearers-rehearsal-3/
LOCATION:Lodge Rosslyn St Clair 606\, 21 Main Street\, Roslin\, Midlothian\, EH25 9LD
END:VEVENT
BEGIN:VEVENT
DTSTART;TZID=Europe/London:20230412T190000
DTEND;TZID=Europe/London:20230412T210000
DTSTAMP:20260424T101021
CREATED:20230313T104348Z
LAST-MODIFIED:20230324T164834Z
UID:7553-1681326000-1681333200@rosslynmasonic606.co.uk
SUMMARY:April Regular Meeting
DESCRIPTION:Our final Regular meeting of the winter season and until our next on 13 September\, when we shall work a Fellowcraft degree.This meeting is also the occasion of the annual Provincial Grand Lodge of Midlothian visitation when we will receive the Report on our Lodge affairs for 2021-2022. RWM Burnett requests a full attendance at this most important event in our annual calendar.
URL:https://rosslynmasonic606.co.uk/event/april-regular-meeting-3/
LOCATION:Lodge Rosslyn St Clair 606\, 21 Main Street\, Roslin\, Midlothian\, EH25 9LD
END:VEVENT
BEGIN:VEVENT
DTSTART;TZID=Europe/London:20230415T190000
DTEND;TZID=Europe/London:20230415T230000
DTSTAMP:20260424T101021
CREATED:20230225T151902Z
LAST-MODIFIED:20230324T170913Z
UID:7492-1681585200-1681599600@rosslynmasonic606.co.uk
SUMMARY:Blues Night
DESCRIPTION:Full programme details to follow shortly
URL:https://rosslynmasonic606.co.uk/event/blues-night/
LOCATION:Lodge Rosslyn St Clair 606\, 21 Main Street\, Roslin\, Midlothian\, EH25 9LD
END:VEVENT
BEGIN:VEVENT
DTSTART;TZID=Europe/London:20230428T140000
DTEND;TZID=Europe/London:20230428T160000
DTSTAMP:20260424T101021
CREATED:20230324T172157Z
LAST-MODIFIED:20230425T093212Z
UID:7609-1682690400-1682697600@rosslynmasonic606.co.uk
SUMMARY:April General Committee Meeting
DESCRIPTION:Please note the new date and time. A full attendance is requested by the RWM for everyone to participate in the planning and conduct of Lodge business over the summer season\, including promotional activities.
URL:https://rosslynmasonic606.co.uk/event/april-general-committee-meeting/
LOCATION:Lodge Rosslyn St Clair 606\, 21 Main Street\, Roslin\, Midlothian\, EH25 9LD
END:VEVENT
END:VCALENDAR