BEGIN:VCALENDAR
VERSION:2.0
PRODID:-//Rosslyn St Clair 606 - ECPv6.15.11//NONSGML v1.0//EN
CALSCALE:GREGORIAN
METHOD:PUBLISH
X-ORIGINAL-URL:https://rosslynmasonic606.co.uk
X-WR-CALDESC:Events for Rosslyn St Clair 606
REFRESH-INTERVAL;VALUE=DURATION:PT1H
X-Robots-Tag:noindex
X-PUBLISHED-TTL:PT1H
BEGIN:VTIMEZONE
TZID:Europe/London
BEGIN:DAYLIGHT
TZOFFSETFROM:+0000
TZOFFSETTO:+0100
TZNAME:BST
DTSTART:20220327T010000
END:DAYLIGHT
BEGIN:STANDARD
TZOFFSETFROM:+0100
TZOFFSETTO:+0000
TZNAME:GMT
DTSTART:20221030T010000
END:STANDARD
BEGIN:DAYLIGHT
TZOFFSETFROM:+0000
TZOFFSETTO:+0100
TZNAME:BST
DTSTART:20230326T010000
END:DAYLIGHT
BEGIN:STANDARD
TZOFFSETFROM:+0100
TZOFFSETTO:+0000
TZNAME:GMT
DTSTART:20231029T010000
END:STANDARD
BEGIN:DAYLIGHT
TZOFFSETFROM:+0000
TZOFFSETTO:+0100
TZNAME:BST
DTSTART:20240331T010000
END:DAYLIGHT
BEGIN:STANDARD
TZOFFSETFROM:+0100
TZOFFSETTO:+0000
TZNAME:GMT
DTSTART:20241027T010000
END:STANDARD
END:VTIMEZONE
BEGIN:VEVENT
DTSTART;TZID=Europe/London:20230302T190000
DTEND;TZID=Europe/London:20230302T220000
DTSTAMP:20260424T112549
CREATED:20230211T161619Z
LAST-MODIFIED:20230211T161620Z
UID:7483-1677783600-1677794400@rosslynmasonic606.co.uk
SUMMARY:Deputation to St. Leonard 580\, Loanhead
DESCRIPTION:Our first Deputation of 2023 and the opportunity to accompany our RWM Bro. Steve Burnett on his first Deputation. RWM Burnett will appreciate the attendance of as many Rosslyn St. Clair members\, including Honorary Members\, as possible on this occasion.
URL:https://rosslynmasonic606.co.uk/event/deputation-to-st-leonard-580-loanhead/
LOCATION:Lodge Rosslyn St Clair 606\, 21 Main Street\, Roslin\, Midlothian\, EH25 9LD
END:VEVENT
BEGIN:VEVENT
DTSTART;TZID=Europe/London:20230308T184000
DTEND;TZID=Europe/London:20230308T190000
DTSTAMP:20260424T112549
CREATED:20230225T152356Z
LAST-MODIFIED:20230225T152358Z
UID:7513-1678300800-1678302000@rosslynmasonic606.co.uk
SUMMARY:Enquiry Committee
DESCRIPTION:Members of the Enquiry Committee are called to meet an applicant for membership of Rosslyn St\, Clair 606.
URL:https://rosslynmasonic606.co.uk/event/enquiry-committee-2/
LOCATION:Lodge Rosslyn St Clair 606\, 21 Main Street\, Roslin\, Midlothian\, EH25 9LD
END:VEVENT
BEGIN:VEVENT
DTSTART;TZID=Europe/London:20230308T190000
DTEND;TZID=Europe/London:20230308T213000
DTSTAMP:20260424T112549
CREATED:20230211T161525Z
LAST-MODIFIED:20230225T152258Z
UID:7486-1678302000-1678311000@rosslynmasonic606.co.uk
SUMMARY:March Regular Meeting
DESCRIPTION:Tonight’s meeting will include an Exemplification of the Fellowcraft Degree and the presentation of 50 year Diplomas to Rosslyn Brethren. A full attendance will recognise the loyalty and service they have given to the Craft in general\, and Rosslyn St. Clair in particular.
URL:https://rosslynmasonic606.co.uk/event/march-regular-meeting-3/
LOCATION:Lodge Rosslyn St Clair 606\, 21 Main Street\, Roslin\, Midlothian\, EH25 9LD
END:VEVENT
BEGIN:VEVENT
DTSTART;TZID=Europe/London:20230322T190000
DTEND;TZID=Europe/London:20230322T210000
DTSTAMP:20260424T112549
CREATED:20230313T102409Z
LAST-MODIFIED:20230313T102607Z
UID:7549-1679511600-1679518800@rosslynmasonic606.co.uk
SUMMARY:March General Committee
DESCRIPTION:Perhaps the last General Committee meeting before we break for the summer season so the agenda will include authorising Bros. Secretary and Treasurer to conduct the routine affairs of the Lodge until we meet again in September\, and to plan our activities over the summer. A full attendance of qualified committee members is encouraged.
URL:https://rosslynmasonic606.co.uk/event/april-general-committee/
LOCATION:Lodge Rosslyn St Clair 606\, 21 Main Street\, Roslin\, Midlothian\, EH25 9LD
END:VEVENT
BEGIN:VEVENT
DTSTART;TZID=Europe/London:20230331T133000
DTEND;TZID=Europe/London:20230331T150000
DTSTAMP:20260424T112549
CREATED:20230225T152428Z
LAST-MODIFIED:20230324T170714Z
UID:7521-1680269400-1680274800@rosslynmasonic606.co.uk
SUMMARY:Office-Bearers Rehearsal
DESCRIPTION:The final opportunity for Office-bearers to hone their skills before the meeting later in the evening.
URL:https://rosslynmasonic606.co.uk/event/office-bearers-rehearsal/
LOCATION:Lodge Rosslyn St Clair 606\, 21 Main Street\, Roslin\, Midlothian\, EH25 9LD
END:VEVENT
END:VCALENDAR