BEGIN:VCALENDAR
VERSION:2.0
PRODID:-//Rosslyn St Clair 606 - ECPv6.15.11//NONSGML v1.0//EN
CALSCALE:GREGORIAN
METHOD:PUBLISH
X-WR-CALNAME:Rosslyn St Clair 606
X-ORIGINAL-URL:https://rosslynmasonic606.co.uk
X-WR-CALDESC:Events for Rosslyn St Clair 606
REFRESH-INTERVAL;VALUE=DURATION:PT1H
X-Robots-Tag:noindex
X-PUBLISHED-TTL:PT1H
BEGIN:VTIMEZONE
TZID:Europe/London
BEGIN:DAYLIGHT
TZOFFSETFROM:+0000
TZOFFSETTO:+0100
TZNAME:BST
DTSTART:20210328T010000
END:DAYLIGHT
BEGIN:STANDARD
TZOFFSETFROM:+0100
TZOFFSETTO:+0000
TZNAME:GMT
DTSTART:20211031T010000
END:STANDARD
BEGIN:DAYLIGHT
TZOFFSETFROM:+0000
TZOFFSETTO:+0100
TZNAME:BST
DTSTART:20220327T010000
END:DAYLIGHT
BEGIN:STANDARD
TZOFFSETFROM:+0100
TZOFFSETTO:+0000
TZNAME:GMT
DTSTART:20221030T010000
END:STANDARD
BEGIN:DAYLIGHT
TZOFFSETFROM:+0000
TZOFFSETTO:+0100
TZNAME:BST
DTSTART:20230326T010000
END:DAYLIGHT
BEGIN:STANDARD
TZOFFSETFROM:+0100
TZOFFSETTO:+0000
TZNAME:GMT
DTSTART:20231029T010000
END:STANDARD
END:VTIMEZONE
BEGIN:VEVENT
DTSTART;TZID=Europe/London:20221109T190000
DTEND;TZID=Europe/London:20221109T210000
DTSTAMP:20260424T165906
CREATED:20220829T112322Z
LAST-MODIFIED:20220829T112323Z
UID:7101-1668020400-1668027600@rosslynmasonic606.co.uk
SUMMARY:November Regular Meeting
DESCRIPTION:We are closing fast on our RWM’s Greetin’ Meetin’ and looking forward to a bumper turnout of members and visitors.
URL:https://rosslynmasonic606.co.uk/event/november-regular-meeting-2/
LOCATION:Lodge Rosslyn St Clair 606\, 21 Main Street\, Roslin\, Midlothian\, EH25 9LD
END:VEVENT
BEGIN:VEVENT
DTSTART;TZID=Europe/London:20221123T190000
DTEND;TZID=Europe/London:20221123T210000
DTSTAMP:20260424T165906
CREATED:20220829T111714Z
LAST-MODIFIED:20220829T111715Z
UID:7085-1669230000-1669237200@rosslynmasonic606.co.uk
SUMMARY:November General Committee Meeting
DESCRIPTION:Our final opportunity before the 2022/23 Installation and the beginning of a new Masonic Year to discuss and finalise any outstanding issues. A full attendance by committee members will be welcomed.
URL:https://rosslynmasonic606.co.uk/event/november-general-committee-meeting/
LOCATION:Lodge Rosslyn St Clair 606\, 21 Main Street\, Roslin\, Midlothian\, EH25 9LD
END:VEVENT
BEGIN:VEVENT
DTSTART;VALUE=DATE:20221126
DTEND;VALUE=DATE:20221127
DTSTAMP:20260424T165906
CREATED:20221020T113408Z
LAST-MODIFIED:20221114T130035Z
UID:7229-1669420800-1669507199@rosslynmasonic606.co.uk
SUMMARY:St. Andrew's Night Concert - POSTPONED to 18 February!!!
DESCRIPTION:it is Saturday 26 November 2022 and we gather to celebrate St. Andrew’s Night with entertainment from Bob Wyper performing his “Scottish Legends and Rod Stewart”. Those of you familiar with Bob Wyper’s performances will know they are assured of an exciting and entertaining evening\, and ‘first-timers’ are guaranteed to be smitten for evermore. Book your tickets early to avoid disappointment!
URL:https://rosslynmasonic606.co.uk/event/st-andrews-night-concert/
LOCATION:Lodge Rosslyn St Clair 606\, 21 Main Street\, Roslin\, Midlothian\, EH25 9LD
END:VEVENT
BEGIN:VEVENT
DTSTART;TZID=Europe/London:20221128T190000
DTEND;TZID=Europe/London:20221128T230000
DTSTAMP:20260424T165906
CREATED:20221126T141510Z
LAST-MODIFIED:20221126T141510Z
UID:7297-1669662000-1669676400@rosslynmasonic606.co.uk
SUMMARY:Deputation to Dalkeith Kilwinning No. 10
DESCRIPTION:An opportunity to join RWM Bro. Chick Beattie on a Deputation to Dalkeith and celebrate St. Andrew’s Day by participating in the famous “No. 10 Pie Night”. All Rosslyn members are encouraged to attend and support the RWM.
URL:https://rosslynmasonic606.co.uk/event/deputation-to-dalkeith-kilwinning-no-10/
LOCATION:Dalkeith Kilwinning 10\, 129 High Street\, Dalkeith\, EH22 1BE
END:VEVENT
END:VCALENDAR