BEGIN:VCALENDAR
VERSION:2.0
PRODID:-//Rosslyn St Clair 606 - ECPv6.15.11//NONSGML v1.0//EN
CALSCALE:GREGORIAN
METHOD:PUBLISH
X-ORIGINAL-URL:https://rosslynmasonic606.co.uk
X-WR-CALDESC:Events for Rosslyn St Clair 606
REFRESH-INTERVAL;VALUE=DURATION:PT1H
X-Robots-Tag:noindex
X-PUBLISHED-TTL:PT1H
BEGIN:VTIMEZONE
TZID:Europe/London
BEGIN:DAYLIGHT
TZOFFSETFROM:+0000
TZOFFSETTO:+0100
TZNAME:BST
DTSTART:20210328T010000
END:DAYLIGHT
BEGIN:STANDARD
TZOFFSETFROM:+0100
TZOFFSETTO:+0000
TZNAME:GMT
DTSTART:20211031T010000
END:STANDARD
BEGIN:DAYLIGHT
TZOFFSETFROM:+0000
TZOFFSETTO:+0100
TZNAME:BST
DTSTART:20220327T010000
END:DAYLIGHT
BEGIN:STANDARD
TZOFFSETFROM:+0100
TZOFFSETTO:+0000
TZNAME:GMT
DTSTART:20221030T010000
END:STANDARD
BEGIN:DAYLIGHT
TZOFFSETFROM:+0000
TZOFFSETTO:+0100
TZNAME:BST
DTSTART:20230326T010000
END:DAYLIGHT
BEGIN:STANDARD
TZOFFSETFROM:+0100
TZOFFSETTO:+0000
TZNAME:GMT
DTSTART:20231029T010000
END:STANDARD
END:VTIMEZONE
BEGIN:VEVENT
DTSTART;TZID=Europe/London:20221012T190000
DTEND;TZID=Europe/London:20221012T210000
DTSTAMP:20260424T183608
CREATED:20220829T113309Z
LAST-MODIFIED:20220829T113310Z
UID:7076-1665601200-1665608400@rosslynmasonic606.co.uk
SUMMARY:October Regular Meeting
DESCRIPTION:In addition to the expected Fellowcraft degree working\, business on this occasion will include the Nomination and Election of Office-Bearers for the coming year; the same for the General Committee and Committee of Enquiry\, and the appointment of an Independent Examiner of Accounts.
URL:https://rosslynmasonic606.co.uk/event/october-regular-meeting-2/
LOCATION:Lodge Rosslyn St Clair 606\, 21 Main Street\, Roslin\, Midlothian\, EH25 9LD
END:VEVENT
BEGIN:VEVENT
DTSTART;TZID=Europe/London:20221014T190000
DTEND;TZID=Europe/London:20221014T235900
DTSTAMP:20260424T183608
CREATED:20220227T111051Z
LAST-MODIFIED:20220329T142541Z
UID:6828-1665774000-1665791940@rosslynmasonic606.co.uk
SUMMARY:Annual Ball
DESCRIPTION:Our premier social event of the Masonic calendar and the opportunity to entertain the ladies and properly thank them for granting us the freedom over the past year to indulge in our Masonic activities.
URL:https://rosslynmasonic606.co.uk/event/annual-ball/
LOCATION:Lodge Rosslyn St Clair 606\, 21 Main Street\, Roslin\, Midlothian\, EH25 9LD
END:VEVENT
BEGIN:VEVENT
DTSTART;TZID=Europe/London:20221022T200000
DTEND;TZID=Europe/London:20221022T233000
DTSTAMP:20260424T183608
CREATED:20221020T105423Z
LAST-MODIFIED:20221020T105423Z
UID:7223-1666468800-1666481400@rosslynmasonic606.co.uk
SUMMARY:"Scotland on Tour" - a live Music Event
DESCRIPTION:On Saturday 22 October Rosslyn St. Clair is hosting a ” Scotland on Tour” live music event in the Masonic Hall\, Roslin\nDoors and the Bar open at 7pm and Folk/Jazz duo “Bancroft & Lyne” begin their performance at 8pm.\n\nTickets are £10 per person\, which are available on this website or payable on the night. A raffle in aid of the Roslin community will be held during the evening.\n\nWe promise a most enjoyable evening and look forward to your company.
URL:https://rosslynmasonic606.co.uk/event/scotland-on-tour-a-live-music-event/
LOCATION:Lodge Rosslyn St Clair 606\, 21 Main Street\, Roslin\, Midlothian\, EH25 9LD
END:VEVENT
BEGIN:VEVENT
DTSTART;TZID=Europe/London:20221026T190000
DTEND;TZID=Europe/London:20221026T210000
DTSTAMP:20260424T183608
CREATED:20220829T113008Z
LAST-MODIFIED:20220829T113009Z
UID:7104-1666810800-1666818000@rosslynmasonic606.co.uk
SUMMARY:October General Committee Meeting
DESCRIPTION:A meeting to discuss the ongoing business affairs of the Lodge
URL:https://rosslynmasonic606.co.uk/event/october-general-committee-meeting/
LOCATION:Lodge Rosslyn St Clair 606\, 21 Main Street\, Roslin\, Midlothian\, EH25 9LD
END:VEVENT
END:VCALENDAR