BEGIN:VCALENDAR
VERSION:2.0
PRODID:-//Rosslyn St Clair 606 - ECPv6.15.11//NONSGML v1.0//EN
CALSCALE:GREGORIAN
METHOD:PUBLISH
X-WR-CALNAME:Rosslyn St Clair 606
X-ORIGINAL-URL:https://rosslynmasonic606.co.uk
X-WR-CALDESC:Events for Rosslyn St Clair 606
REFRESH-INTERVAL;VALUE=DURATION:PT1H
X-Robots-Tag:noindex
X-PUBLISHED-TTL:PT1H
BEGIN:VTIMEZONE
TZID:Europe/London
BEGIN:DAYLIGHT
TZOFFSETFROM:+0000
TZOFFSETTO:+0100
TZNAME:BST
DTSTART:20210328T010000
END:DAYLIGHT
BEGIN:STANDARD
TZOFFSETFROM:+0100
TZOFFSETTO:+0000
TZNAME:GMT
DTSTART:20211031T010000
END:STANDARD
BEGIN:DAYLIGHT
TZOFFSETFROM:+0000
TZOFFSETTO:+0100
TZNAME:BST
DTSTART:20220327T010000
END:DAYLIGHT
BEGIN:STANDARD
TZOFFSETFROM:+0100
TZOFFSETTO:+0000
TZNAME:GMT
DTSTART:20221030T010000
END:STANDARD
BEGIN:DAYLIGHT
TZOFFSETFROM:+0000
TZOFFSETTO:+0100
TZNAME:BST
DTSTART:20230326T010000
END:DAYLIGHT
BEGIN:STANDARD
TZOFFSETFROM:+0100
TZOFFSETTO:+0000
TZNAME:GMT
DTSTART:20231029T010000
END:STANDARD
END:VTIMEZONE
BEGIN:VEVENT
DTSTART;TZID=Europe/London:20220911T180000
DTEND;TZID=Europe/London:20220911T200000
DTSTAMP:20260424T195924
CREATED:20220829T114819Z
LAST-MODIFIED:20220911T080113Z
UID:7109-1662919200-1662926400@rosslynmasonic606.co.uk
SUMMARY:Rehearsal - Entered Apprentice Degree - Postponed
DESCRIPTION:The opportunity for Office-Bearers to polish off the rough edges from their ritual and gain confidence for the degree meeting on 14 September.
URL:https://rosslynmasonic606.co.uk/event/rehearsal-entered-apprentice-degree/
LOCATION:Lodge Rosslyn St Clair 606\, 21 Main Street\, Roslin\, Midlothian\, EH25 9LD
END:VEVENT
BEGIN:VEVENT
DTSTART;TZID=Europe/London:20220914T190000
DTEND;TZID=Europe/London:20220914T210000
DTSTAMP:20260424T195924
CREATED:20220829T113511Z
LAST-MODIFIED:20220911T080005Z
UID:7067-1663182000-1663189200@rosslynmasonic606.co.uk
SUMMARY:September Regular Meeting - Cancelled
DESCRIPTION:All Masonic activity is cancelled as a mark of respect until after the funeral of HM Queen Elizabeth 11 on 19 September 2022
URL:https://rosslynmasonic606.co.uk/event/september-regular-meeting-2/
LOCATION:Lodge Rosslyn St Clair 606\, 21 Main Street\, Roslin\, Midlothian\, EH25 9LD
END:VEVENT
BEGIN:VEVENT
DTSTART;TZID=Europe/London:20220930T100000
DTEND;TZID=Europe/London:20220930T120000
DTSTAMP:20260424T195924
CREATED:20220829T113407Z
LAST-MODIFIED:20220914T165234Z
UID:7073-1664532000-1664539200@rosslynmasonic606.co.uk
SUMMARY:September General Committee Meeting. Note Changed Date and Time
DESCRIPTION:Our monthly opportunity to discuss all relevant business affecting management of the Lodge and receive a report on current financial affairs. On this occasion the business will include determination of the Committee recommendations for the nomination of Office-Bearers for the year 2022/23
URL:https://rosslynmasonic606.co.uk/event/september-general-committee-meeting-2/
LOCATION:Lodge Rosslyn St Clair 606\, 21 Main Street\, Roslin\, Midlothian\, EH25 9LD
END:VEVENT
END:VCALENDAR