BEGIN:VCALENDAR
VERSION:2.0
PRODID:-//Rosslyn St Clair 606 - ECPv6.15.11//NONSGML v1.0//EN
CALSCALE:GREGORIAN
METHOD:PUBLISH
X-ORIGINAL-URL:https://rosslynmasonic606.co.uk
X-WR-CALDESC:Events for Rosslyn St Clair 606
REFRESH-INTERVAL;VALUE=DURATION:PT1H
X-Robots-Tag:noindex
X-PUBLISHED-TTL:PT1H
BEGIN:VTIMEZONE
TZID:Europe/London
BEGIN:DAYLIGHT
TZOFFSETFROM:+0000
TZOFFSETTO:+0100
TZNAME:BST
DTSTART:20200329T010000
END:DAYLIGHT
BEGIN:STANDARD
TZOFFSETFROM:+0100
TZOFFSETTO:+0000
TZNAME:GMT
DTSTART:20201025T010000
END:STANDARD
BEGIN:DAYLIGHT
TZOFFSETFROM:+0000
TZOFFSETTO:+0100
TZNAME:BST
DTSTART:20210328T010000
END:DAYLIGHT
BEGIN:STANDARD
TZOFFSETFROM:+0100
TZOFFSETTO:+0000
TZNAME:GMT
DTSTART:20211031T010000
END:STANDARD
BEGIN:DAYLIGHT
TZOFFSETFROM:+0000
TZOFFSETTO:+0100
TZNAME:BST
DTSTART:20220327T010000
END:DAYLIGHT
BEGIN:STANDARD
TZOFFSETFROM:+0100
TZOFFSETTO:+0000
TZNAME:GMT
DTSTART:20221030T010000
END:STANDARD
END:VTIMEZONE
BEGIN:VEVENT
DTSTART;TZID=Europe/London:20210101T000000
DTEND;TZID=Europe/London:20210630T235959
DTSTAMP:20260425T224624
CREATED:20201109T121011Z
LAST-MODIFIED:20210115T124838Z
UID:3394-1609459200-1625097599@rosslynmasonic606.co.uk
SUMMARY:Covid-19 Consequences
DESCRIPTION:Until the Covid-19 pandemic is brought under control Lodge Rosslyn St. Clair is following guidance from Grand Lodge of Scotland\, and acting always in accordance with instructions from the Scottish Government\, to close its Masonic Hall and cease all masonic gatherings and public admissions to the premises. Resumption of ‘normal’ activity will be posted on the website.
URL:https://rosslynmasonic606.co.uk/event/covid-19/
LOCATION:Lodge Rosslyn St Clair 606\, 21 Main Street\, Roslin\, Midlothian\, EH25 9LD
END:VEVENT
BEGIN:VEVENT
DTSTART;TZID=Europe/London:20210303T190000
DTEND;TZID=Europe/London:20210303T200000
DTSTAMP:20260425T224624
CREATED:20210302T103700Z
LAST-MODIFIED:20210302T105834Z
UID:6308-1614798000-1614801600@rosslynmasonic606.co.uk
SUMMARY:Rosslyn Members Zoom Meeting
DESCRIPTION:A fun and relaxing opportunity to join with your Rosslyn brethren to put the world to rights and keep in touch with each other during the Covid-19 lockdown\, and sometimes to discuss the decisions necessary to keep our lodge functioning and ready to re-open as soon as conditions permit. Members from Finland\, Australia\, Spain\, even as far away as Loanhead\, all join in to share their experiences and enrich the discussion; your participation will be very welcome indeed. \n\n\n\nSee the weekly email sent to you by Bro. Steve Burnett for the Zoom link joining details. You don’t need Zoom installed on your computer\, tablet or smart phone\, simply click on the link in the email to join the conversation.
URL:https://rosslynmasonic606.co.uk/event/lodge-zoom-meeting/
END:VEVENT
BEGIN:VEVENT
DTSTART;TZID=Europe/London:20210414T190000
DTEND;TZID=Europe/London:20210414T190000
DTSTAMP:20260425T224624
CREATED:20210119T121513Z
LAST-MODIFIED:20210119T122218Z
UID:5919-1618426800-1618426800@rosslynmasonic606.co.uk
SUMMARY:April Regular Meeting - Cancelled
DESCRIPTION:
URL:https://rosslynmasonic606.co.uk/event/april-regular-meeting-cancelled/
LOCATION:Lodge Rosslyn St Clair 606\, 21 Main Street\, Roslin\, Midlothian\, EH25 9LD
END:VEVENT
BEGIN:VEVENT
DTSTART;TZID=Europe/London:20210303T190000
DTEND;TZID=Europe/London:20210303T200000
DTSTAMP:20260425T224624
CREATED:20210302T103700Z
LAST-MODIFIED:20210302T105834Z
UID:6308-1614798000-1614801600@rosslynmasonic606.co.uk
SUMMARY:Rosslyn Members Zoom Meeting
DESCRIPTION:A fun and relaxing opportunity to join with your Rosslyn brethren to put the world to rights and keep in touch with each other during the Covid-19 lockdown\, and sometimes to discuss the decisions necessary to keep our lodge functioning and ready to re-open as soon as conditions permit. Members from Finland\, Australia\, Spain\, even as far away as Loanhead\, all join in to share their experiences and enrich the discussion; your participation will be very welcome indeed. \n\n\n\nSee the weekly email sent to you by Bro. Steve Burnett for the Zoom link joining details. You don’t need Zoom installed on your computer\, tablet or smart phone\, simply click on the link in the email to join the conversation.
URL:https://rosslynmasonic606.co.uk/event/lodge-zoom-meeting/
END:VEVENT
BEGIN:VEVENT
DTSTART;TZID=Europe/London:20210415T180000
DTEND;TZID=Europe/London:20210415T200000
DTSTAMP:20260425T224624
CREATED:20210412T103722Z
LAST-MODIFIED:20210412T103724Z
UID:6493-1618509600-1618516800@rosslynmasonic606.co.uk
SUMMARY:Ramon Llull No9 Zoom Meeting
DESCRIPTION:An opportunity for the Brethren of Lodge Rosslyn St. Clair to witness and support the Election of Brother Raymond Binnie as Master Elect of Lodge Ramon Llull\, and to participate in the Toasts to his future. \n\n\n\nZoom details are  \n\n\n\nMeeting 824 2454 6954  \n\n\n\nPassword code 068134 
URL:https://rosslynmasonic606.co.uk/event/ramon-llull-no9-zoom-meeting/
END:VEVENT
BEGIN:VEVENT
DTSTART;TZID=Europe/London:20210417T060000
DTEND;TZID=Europe/London:20210417T060000
DTSTAMP:20260425T224624
CREATED:20210414T174013Z
LAST-MODIFIED:20210414T174014Z
UID:6516-1618639200-1618639200@rosslynmasonic606.co.uk
SUMMARY:Installation of Bro. Boyd Sparrow as Grand Secretary\, South Australia
DESCRIPTION:An historic opportunity to witness our Antipodean Brother\, Boyd Sparrow being installed as Grand Secretary of the Grand Lodge of South Australia and Northern Territory. You are invited to joint the Zoom Webinar <https://zoom.us/j/97457359775?pwd=Szl0R1poVTUvbjZUSTVnVWZNSUtwZz09> with the Passcode: 234825. Please note that because Australia is in a different time zone the ceremony in the UK will begin at 6.00am on April 17 2021
URL:https://rosslynmasonic606.co.uk/event/installation-of-bro-boyd-sparrow-as-grand-secretary-south-australia/
END:VEVENT
BEGIN:VEVENT
DTSTART;TZID=Europe/London:20210303T190000
DTEND;TZID=Europe/London:20210303T200000
DTSTAMP:20260425T224624
CREATED:20210302T103700Z
LAST-MODIFIED:20210302T105834Z
UID:6308-1614798000-1614801600@rosslynmasonic606.co.uk
SUMMARY:Rosslyn Members Zoom Meeting
DESCRIPTION:A fun and relaxing opportunity to join with your Rosslyn brethren to put the world to rights and keep in touch with each other during the Covid-19 lockdown\, and sometimes to discuss the decisions necessary to keep our lodge functioning and ready to re-open as soon as conditions permit. Members from Finland\, Australia\, Spain\, even as far away as Loanhead\, all join in to share their experiences and enrich the discussion; your participation will be very welcome indeed. \n\n\n\nSee the weekly email sent to you by Bro. Steve Burnett for the Zoom link joining details. You don’t need Zoom installed on your computer\, tablet or smart phone\, simply click on the link in the email to join the conversation.
URL:https://rosslynmasonic606.co.uk/event/lodge-zoom-meeting/
END:VEVENT
BEGIN:VEVENT
DTSTART;TZID=Europe/London:20210428T190000
DTEND;TZID=Europe/London:20210428T190000
DTSTAMP:20260425T224624
CREATED:20210119T121623Z
LAST-MODIFIED:20210119T122253Z
UID:5921-1619636400-1619636400@rosslynmasonic606.co.uk
SUMMARY:April Management Meeting - Cancelled
DESCRIPTION:
URL:https://rosslynmasonic606.co.uk/event/april-management-meeting-cancelled/
LOCATION:Lodge Rosslyn St Clair 606\, 21 Main Street\, Roslin\, Midlothian\, EH25 9LD
END:VEVENT
BEGIN:VEVENT
DTSTART;TZID=Europe/London:20210303T190000
DTEND;TZID=Europe/London:20210303T200000
DTSTAMP:20260425T224624
CREATED:20210302T103700Z
LAST-MODIFIED:20210302T105834Z
UID:6308-1614798000-1614801600@rosslynmasonic606.co.uk
SUMMARY:Rosslyn Members Zoom Meeting
DESCRIPTION:A fun and relaxing opportunity to join with your Rosslyn brethren to put the world to rights and keep in touch with each other during the Covid-19 lockdown\, and sometimes to discuss the decisions necessary to keep our lodge functioning and ready to re-open as soon as conditions permit. Members from Finland\, Australia\, Spain\, even as far away as Loanhead\, all join in to share their experiences and enrich the discussion; your participation will be very welcome indeed. \n\n\n\nSee the weekly email sent to you by Bro. Steve Burnett for the Zoom link joining details. You don’t need Zoom installed on your computer\, tablet or smart phone\, simply click on the link in the email to join the conversation.
URL:https://rosslynmasonic606.co.uk/event/lodge-zoom-meeting/
END:VEVENT
END:VCALENDAR