BEGIN:VCALENDAR
VERSION:2.0
PRODID:-//Rosslyn St Clair 606 - ECPv6.15.11//NONSGML v1.0//EN
CALSCALE:GREGORIAN
METHOD:PUBLISH
X-WR-CALNAME:Rosslyn St Clair 606
X-ORIGINAL-URL:https://rosslynmasonic606.co.uk
X-WR-CALDESC:Events for Rosslyn St Clair 606
REFRESH-INTERVAL;VALUE=DURATION:PT1H
X-Robots-Tag:noindex
X-PUBLISHED-TTL:PT1H
BEGIN:VTIMEZONE
TZID:Europe/London
BEGIN:DAYLIGHT
TZOFFSETFROM:+0000
TZOFFSETTO:+0100
TZNAME:BST
DTSTART:20220327T010000
END:DAYLIGHT
BEGIN:STANDARD
TZOFFSETFROM:+0100
TZOFFSETTO:+0000
TZNAME:GMT
DTSTART:20221030T010000
END:STANDARD
BEGIN:DAYLIGHT
TZOFFSETFROM:+0000
TZOFFSETTO:+0100
TZNAME:BST
DTSTART:20230326T010000
END:DAYLIGHT
BEGIN:STANDARD
TZOFFSETFROM:+0100
TZOFFSETTO:+0000
TZNAME:GMT
DTSTART:20231029T010000
END:STANDARD
BEGIN:DAYLIGHT
TZOFFSETFROM:+0000
TZOFFSETTO:+0100
TZNAME:BST
DTSTART:20240331T010000
END:DAYLIGHT
BEGIN:STANDARD
TZOFFSETFROM:+0100
TZOFFSETTO:+0000
TZNAME:GMT
DTSTART:20241027T010000
END:STANDARD
END:VTIMEZONE
BEGIN:VEVENT
DTSTART;TZID=Europe/London:20231108T190000
DTEND;TZID=Europe/London:20231108T213000
DTSTAMP:20260424T024133
CREATED:20231023T091639Z
LAST-MODIFIED:20231027T141710Z
UID:7826-1699470000-1699479000@rosslynmasonic606.co.uk
SUMMARY:Mark Degree
DESCRIPTION:The annual meeting at which our new members are advanced to the next step in their Masonic career\, as Mark Master Masons. A celebration with serious intent and occasional lighthearted overtones\, this is a meeting not to be missed – by everyone qualified to attend. On this occasion the Degree will be worked by a celebrity team of Rosslyn St. Clair Honorary Members and Mark Master Mason Bro. Tom Drummond PM.
URL:https://rosslynmasonic606.co.uk/event/mark-degree/
LOCATION:Lodge Rosslyn St. Clair\, 21 Main Street\, Roslin\, EH25 9LD
END:VEVENT
END:VCALENDAR