BEGIN:VCALENDAR
VERSION:2.0
PRODID:-//Rosslyn St Clair 606 - ECPv6.15.11//NONSGML v1.0//EN
CALSCALE:GREGORIAN
METHOD:PUBLISH
X-ORIGINAL-URL:https://rosslynmasonic606.co.uk
X-WR-CALDESC:Events for Rosslyn St Clair 606
REFRESH-INTERVAL;VALUE=DURATION:PT1H
X-Robots-Tag:noindex
X-PUBLISHED-TTL:PT1H
BEGIN:VTIMEZONE
TZID:Europe/London
BEGIN:DAYLIGHT
TZOFFSETFROM:+0000
TZOFFSETTO:+0100
TZNAME:BST
DTSTART:20220327T010000
END:DAYLIGHT
BEGIN:STANDARD
TZOFFSETFROM:+0100
TZOFFSETTO:+0000
TZNAME:GMT
DTSTART:20221030T010000
END:STANDARD
BEGIN:DAYLIGHT
TZOFFSETFROM:+0000
TZOFFSETTO:+0100
TZNAME:BST
DTSTART:20230326T010000
END:DAYLIGHT
BEGIN:STANDARD
TZOFFSETFROM:+0100
TZOFFSETTO:+0000
TZNAME:GMT
DTSTART:20231029T010000
END:STANDARD
BEGIN:DAYLIGHT
TZOFFSETFROM:+0000
TZOFFSETTO:+0100
TZNAME:BST
DTSTART:20240331T010000
END:DAYLIGHT
BEGIN:STANDARD
TZOFFSETFROM:+0100
TZOFFSETTO:+0000
TZNAME:GMT
DTSTART:20241027T010000
END:STANDARD
END:VTIMEZONE
BEGIN:VEVENT
DTSTART;TZID=Europe/London:20231105T100000
DTEND;TZID=Europe/London:20231105T233000
DTSTAMP:20260424T024404
CREATED:20231030T150710Z
LAST-MODIFIED:20231030T150715Z
UID:7864-1699178400-1699227000@rosslynmasonic606.co.uk
SUMMARY:Office-Bearers (Business) Rehearsal
DESCRIPTION:A short meeting for office-bearers to rehearse the opening of the Lodge prior to the gavel being handed over to Bro. Tom Drummond PM to conduct the Mark Degree on 8 November.
URL:https://rosslynmasonic606.co.uk/event/office-bearers-business-rehearsal/
LOCATION:Lodge Rosslyn St. Clair\, 21 Main Street\, Roslin\, EH25 9LD\, United Kingdom
END:VEVENT
END:VCALENDAR