BEGIN:VCALENDAR
VERSION:2.0
PRODID:-//Rosslyn St Clair 606 - ECPv6.15.11//NONSGML v1.0//EN
CALSCALE:GREGORIAN
METHOD:PUBLISH
X-ORIGINAL-URL:https://rosslynmasonic606.co.uk
X-WR-CALDESC:Events for Rosslyn St Clair 606
REFRESH-INTERVAL;VALUE=DURATION:PT1H
X-Robots-Tag:noindex
X-PUBLISHED-TTL:PT1H
BEGIN:VTIMEZONE
TZID:Europe/London
BEGIN:DAYLIGHT
TZOFFSETFROM:+0000
TZOFFSETTO:+0100
TZNAME:BST
DTSTART:20220327T010000
END:DAYLIGHT
BEGIN:STANDARD
TZOFFSETFROM:+0100
TZOFFSETTO:+0000
TZNAME:GMT
DTSTART:20221030T010000
END:STANDARD
BEGIN:DAYLIGHT
TZOFFSETFROM:+0000
TZOFFSETTO:+0100
TZNAME:BST
DTSTART:20230326T010000
END:DAYLIGHT
BEGIN:STANDARD
TZOFFSETFROM:+0100
TZOFFSETTO:+0000
TZNAME:GMT
DTSTART:20231029T010000
END:STANDARD
BEGIN:DAYLIGHT
TZOFFSETFROM:+0000
TZOFFSETTO:+0100
TZNAME:BST
DTSTART:20240331T010000
END:DAYLIGHT
BEGIN:STANDARD
TZOFFSETFROM:+0100
TZOFFSETTO:+0000
TZNAME:GMT
DTSTART:20241027T010000
END:STANDARD
END:VTIMEZONE
BEGIN:VEVENT
DTSTART;TZID=Europe/London:20230920T153000
DTEND;TZID=Europe/London:20230920T153000
DTSTAMP:20260424T051538
CREATED:20230916T135101Z
LAST-MODIFIED:20230916T135253Z
UID:7765-1695223800-1695223800@rosslynmasonic606.co.uk
SUMMARY:Bro. Dougie Murray\, Funeral
DESCRIPTION:Bro. Dougie’s funeral will be held in the Pentland Chapel\, Mortonhall Crematorium and thereafter at Lodge Rosslyn St. Clair. 21 Main Street\, Roslin to which the family invites everyone.
URL:https://rosslynmasonic606.co.uk/event/bro-dougie-murray-funeral/
END:VEVENT
END:VCALENDAR