BEGIN:VCALENDAR
VERSION:2.0
PRODID:-//Rosslyn St Clair 606 - ECPv6.15.11//NONSGML v1.0//EN
CALSCALE:GREGORIAN
METHOD:PUBLISH
X-WR-CALNAME:Rosslyn St Clair 606
X-ORIGINAL-URL:https://rosslynmasonic606.co.uk
X-WR-CALDESC:Events for Rosslyn St Clair 606
REFRESH-INTERVAL;VALUE=DURATION:PT1H
X-Robots-Tag:noindex
X-PUBLISHED-TTL:PT1H
BEGIN:VTIMEZONE
TZID:Europe/London
BEGIN:DAYLIGHT
TZOFFSETFROM:+0000
TZOFFSETTO:+0100
TZNAME:BST
DTSTART:20210328T010000
END:DAYLIGHT
BEGIN:STANDARD
TZOFFSETFROM:+0100
TZOFFSETTO:+0000
TZNAME:GMT
DTSTART:20211031T010000
END:STANDARD
BEGIN:DAYLIGHT
TZOFFSETFROM:+0000
TZOFFSETTO:+0100
TZNAME:BST
DTSTART:20220327T010000
END:DAYLIGHT
BEGIN:STANDARD
TZOFFSETFROM:+0100
TZOFFSETTO:+0000
TZNAME:GMT
DTSTART:20221030T010000
END:STANDARD
BEGIN:DAYLIGHT
TZOFFSETFROM:+0000
TZOFFSETTO:+0100
TZNAME:BST
DTSTART:20230326T010000
END:DAYLIGHT
BEGIN:STANDARD
TZOFFSETFROM:+0100
TZOFFSETTO:+0000
TZNAME:GMT
DTSTART:20231029T010000
END:STANDARD
END:VTIMEZONE
BEGIN:VEVENT
DTSTART;TZID=Europe/London:20220824T190000
DTEND;TZID=Europe/London:20220824T210000
DTSTAMP:20260424T230641
CREATED:20220414T144903Z
LAST-MODIFIED:20220414T144904Z
UID:6975-1661367600-1661374800@rosslynmasonic606.co.uk
SUMMARY:General Committee Meeting
DESCRIPTION:Our first Management Committee meeting of the Autumn/Winter season – the ‘Second Half’. Members are expected to attend\, to catch up with old friends\, hear how your lodge has fared over the summer months\, and participate in the programme and management of the way ahead.
URL:https://rosslynmasonic606.co.uk/event/general-committee-meeting-7/
LOCATION:Lodge Rosslyn St Clair 606\, 21 Main Street\, Roslin\, Midlothian\, EH25 9LD
END:VEVENT
END:VCALENDAR