BEGIN:VCALENDAR
VERSION:2.0
PRODID:-//Rosslyn St Clair 606 - ECPv6.15.11//NONSGML v1.0//EN
CALSCALE:GREGORIAN
METHOD:PUBLISH
X-ORIGINAL-URL:https://rosslynmasonic606.co.uk
X-WR-CALDESC:Events for Rosslyn St Clair 606
REFRESH-INTERVAL;VALUE=DURATION:PT1H
X-Robots-Tag:noindex
X-PUBLISHED-TTL:PT1H
BEGIN:VTIMEZONE
TZID:Europe/London
BEGIN:DAYLIGHT
TZOFFSETFROM:+0000
TZOFFSETTO:+0100
TZNAME:BST
DTSTART:20210328T010000
END:DAYLIGHT
BEGIN:STANDARD
TZOFFSETFROM:+0100
TZOFFSETTO:+0000
TZNAME:GMT
DTSTART:20211031T010000
END:STANDARD
BEGIN:DAYLIGHT
TZOFFSETFROM:+0000
TZOFFSETTO:+0100
TZNAME:BST
DTSTART:20220327T010000
END:DAYLIGHT
BEGIN:STANDARD
TZOFFSETFROM:+0100
TZOFFSETTO:+0000
TZNAME:GMT
DTSTART:20221030T010000
END:STANDARD
BEGIN:DAYLIGHT
TZOFFSETFROM:+0000
TZOFFSETTO:+0100
TZNAME:BST
DTSTART:20230326T010000
END:DAYLIGHT
BEGIN:STANDARD
TZOFFSETFROM:+0100
TZOFFSETTO:+0000
TZNAME:GMT
DTSTART:20231029T010000
END:STANDARD
END:VTIMEZONE
BEGIN:VEVENT
DTSTART;TZID=Europe/London:20220630T190000
DTEND;TZID=Europe/London:20220630T230000
DTSTAMP:20260425T004603
CREATED:20220626T163229Z
LAST-MODIFIED:20220627T085129Z
UID:6993-1656615600-1656630000@rosslynmasonic606.co.uk
SUMMARY:Twinning Ceremony with Lodge Bilu 33\, Israel
DESCRIPTION:This evening we enter into a unique Twinning arrangement with Lodge Bilu 33\, Rehovot\, Israel. Worshipful Brother Yoav Danzinger accompanied by a Deputation from Bilu 33\, together with our own Right Worshipful Master\, Bro Charles D Beattie\, will sign the Agreement\, witnessed by RW Depute Provincial Grand Master\, Robert Law and a Deputation from the Provincial Grand Lodge of Midlothian – and of course. all of our Rosslyn St. Clair members and visitors. \n\n\n\nAll qualified Brethren are most welcome to attend this very special occasion which will be followed by some unique entertainment by our Israeli Brethren\, and light refreshments. Full regalia will be worn and\, Iif at all possible\, Highland Dress\, otherwise Dinner Suits.
URL:https://rosslynmasonic606.co.uk/event/twinning-ceremony-with-lodge-bilu-33-israel/
LOCATION:Lodge Rosslyn St Clair 606\, 21 Main Street\, Roslin\, Midlothian\, EH25 9LD
END:VEVENT
END:VCALENDAR