BEGIN:VCALENDAR
VERSION:2.0
PRODID:-//Rosslyn St Clair 606 - ECPv6.15.11//NONSGML v1.0//EN
CALSCALE:GREGORIAN
METHOD:PUBLISH
X-WR-CALNAME:Rosslyn St Clair 606
X-ORIGINAL-URL:https://rosslynmasonic606.co.uk
X-WR-CALDESC:Events for Rosslyn St Clair 606
REFRESH-INTERVAL;VALUE=DURATION:PT1H
X-Robots-Tag:noindex
X-PUBLISHED-TTL:PT1H
BEGIN:VTIMEZONE
TZID:Europe/London
BEGIN:DAYLIGHT
TZOFFSETFROM:+0000
TZOFFSETTO:+0100
TZNAME:BST
DTSTART:20210328T010000
END:DAYLIGHT
BEGIN:STANDARD
TZOFFSETFROM:+0100
TZOFFSETTO:+0000
TZNAME:GMT
DTSTART:20211031T010000
END:STANDARD
BEGIN:DAYLIGHT
TZOFFSETFROM:+0000
TZOFFSETTO:+0100
TZNAME:BST
DTSTART:20220327T010000
END:DAYLIGHT
BEGIN:STANDARD
TZOFFSETFROM:+0100
TZOFFSETTO:+0000
TZNAME:GMT
DTSTART:20221030T010000
END:STANDARD
BEGIN:DAYLIGHT
TZOFFSETFROM:+0000
TZOFFSETTO:+0100
TZNAME:BST
DTSTART:20230326T010000
END:DAYLIGHT
BEGIN:STANDARD
TZOFFSETFROM:+0100
TZOFFSETTO:+0000
TZNAME:GMT
DTSTART:20231029T010000
END:STANDARD
END:VTIMEZONE
BEGIN:VEVENT
DTSTART;TZID=Europe/London:20220427T183000
DTEND;TZID=Europe/London:20220427T183000
DTSTAMP:20260425T035023
CREATED:20220426T114430Z
LAST-MODIFIED:20220426T114439Z
UID:6984-1651084200-1651084200@rosslynmasonic606.co.uk
SUMMARY:Enquiry Meeting Cancelled
DESCRIPTION:This Enquiry Meeting has been postponed until further notice. The General Committee meeting scheduled to follow at 7.00pm will be held as planned.
URL:https://rosslynmasonic606.co.uk/event/enquiry-meeting-cancelled/
LOCATION:Lodge Rosslyn St Clair 606\, 21 Main Street\, Roslin\, Midlothian\, EH25 9LD
END:VEVENT
BEGIN:VEVENT
DTSTART;TZID=Europe/London:20220427T183000
DTEND;TZID=Europe/London:20220427T210000
DTSTAMP:20260425T035023
CREATED:20220329T130105Z
LAST-MODIFIED:20220414T173737Z
UID:6922-1651084200-1651093200@rosslynmasonic606.co.uk
SUMMARY:Enquiry and General Committee Meetings
DESCRIPTION:This meeting will begin at 6pm and begin with an Enquiry into the candidate who would have been considered on on 6 April had Covid19 not forced a postponement. All members of the Enquiry committee are expected to attend.  \n\n\n\nThe Enquiry will be followed by the last planned General Committee meeting before we meet again at the end of August; there is much important business on the agenda and the RWM requests a full attendance so that we can properly determine our management policies over the summer months\, and beyond.
URL:https://rosslynmasonic606.co.uk/event/general-committee-meeting-6/
LOCATION:Lodge Rosslyn St Clair 606\, 21 Main Street\, Roslin\, Midlothian\, EH25 9LD
END:VEVENT
END:VCALENDAR