BEGIN:VCALENDAR
VERSION:2.0
PRODID:-//Rosslyn St Clair 606 - ECPv6.15.11//NONSGML v1.0//EN
CALSCALE:GREGORIAN
METHOD:PUBLISH
X-WR-CALNAME:Rosslyn St Clair 606
X-ORIGINAL-URL:https://rosslynmasonic606.co.uk
X-WR-CALDESC:Events for Rosslyn St Clair 606
REFRESH-INTERVAL;VALUE=DURATION:PT1H
X-Robots-Tag:noindex
X-PUBLISHED-TTL:PT1H
BEGIN:VTIMEZONE
TZID:Europe/London
BEGIN:DAYLIGHT
TZOFFSETFROM:+0000
TZOFFSETTO:+0100
TZNAME:BST
DTSTART:20200329T010000
END:DAYLIGHT
BEGIN:STANDARD
TZOFFSETFROM:+0100
TZOFFSETTO:+0000
TZNAME:GMT
DTSTART:20201025T010000
END:STANDARD
BEGIN:DAYLIGHT
TZOFFSETFROM:+0000
TZOFFSETTO:+0100
TZNAME:BST
DTSTART:20210328T010000
END:DAYLIGHT
BEGIN:STANDARD
TZOFFSETFROM:+0100
TZOFFSETTO:+0000
TZNAME:GMT
DTSTART:20211031T010000
END:STANDARD
BEGIN:DAYLIGHT
TZOFFSETFROM:+0000
TZOFFSETTO:+0100
TZNAME:BST
DTSTART:20220327T010000
END:DAYLIGHT
BEGIN:STANDARD
TZOFFSETFROM:+0100
TZOFFSETTO:+0000
TZNAME:GMT
DTSTART:20221030T010000
END:STANDARD
END:VTIMEZONE
BEGIN:VEVENT
DTSTART;TZID=Europe/London:20210101T000000
DTEND;TZID=Europe/London:20210630T235959
DTSTAMP:20260426T013320
CREATED:20201109T121011Z
LAST-MODIFIED:20210115T124838Z
UID:3394-1609459200-1625097599@rosslynmasonic606.co.uk
SUMMARY:Covid-19 Consequences
DESCRIPTION:Until the Covid-19 pandemic is brought under control Lodge Rosslyn St. Clair is following guidance from Grand Lodge of Scotland\, and acting always in accordance with instructions from the Scottish Government\, to close its Masonic Hall and cease all masonic gatherings and public admissions to the premises. Resumption of ‘normal’ activity will be posted on the website.
URL:https://rosslynmasonic606.co.uk/event/covid-19/
LOCATION:Lodge Rosslyn St Clair 606\, 21 Main Street\, Roslin\, Midlothian\, EH25 9LD
END:VEVENT
BEGIN:VEVENT
DTSTART;TZID=Europe/London:20210210T190000
DTEND;TZID=Europe/London:20210210T190000
DTSTAMP:20260426T013320
CREATED:20210119T120952Z
LAST-MODIFIED:20210128T105544Z
UID:5911-1612983600-1612983600@rosslynmasonic606.co.uk
SUMMARY:Annual General Meeting - Online Meeting
DESCRIPTION:Due to the Coronavirus pandemic the February Regular meeting will be held online and restricted to consideration of necessary business only.  \n\n\n\nThis meeting is the designated date of our Annual General Meeting\, required by the Lodge Bye-Laws to pass the annual accounts for 2019-2020 and Balance Sheet as at 30 November 2020.  A Zoom link for entry to the virtual AGM will be sent by email to every Qualified Member prior to the meeting. A copy of the accounts will be sent by email on request to the Secretary <secretary@rosslynmasonic606.co.uk>. Questions about the accounts should be addressed to the Treasurer <treasurer@rosslynmasonic606.co.uk> before the date of the AGM.  \n\n\n\nAll members are encouraged to join this important meeting and should contact Bro. David Kelly PM on 07718 764 706 should they need assistance with the computer setup required for access.
URL:https://rosslynmasonic606.co.uk/event/february-regular-meeting-and-agm-cancelled/
LOCATION:Lodge Rosslyn St Clair 606\, 21 Main Street\, Roslin\, Midlothian\, EH25 9LD
END:VEVENT
END:VCALENDAR